BEGIN:VCALENDAR
VERSION:2.0
PRODID:icalendar-ruby
CALSCALE:GREGORIAN
BEGIN:VEVENT
DTSTAMP:20191220T162231Z
UID:34b3caa8-2704-4af5-8e94-1ef962c6a09e
DTSTART:20191209T203000Z
DTEND:20191209T213001Z
DESCRIPTION:
LOCATION:
SUMMARY:Prize giving
URL:
END:VEVENT
END:VCALENDAR
