BEGIN:VCALENDAR
VERSION:2.0
PRODID:icalendar-ruby
CALSCALE:GREGORIAN
BEGIN:VEVENT
DTSTAMP:20191220T162232Z
UID:d5a08937-ac11-4b59-b1d5-2276e8d0eb8b
DTSTART:20191212T200000Z
DTEND:20191213T020001Z
DESCRIPTION:
LOCATION:
SUMMARY:Last Day of School for 2019
URL:
END:VEVENT
END:VCALENDAR
