BEGIN:VCALENDAR
VERSION:2.0
PRODID:icalendar-ruby
CALSCALE:GREGORIAN
BEGIN:VEVENT
DTSTAMP:20191220T162233Z
UID:64aed076-5644-42a1-a42d-6f9cbad33f8b
DTSTART:20191213T020000Z
DTEND:20191213T020001Z
DESCRIPTION:
LOCATION:
SUMMARY:Reports Home
URL:
END:VEVENT
END:VCALENDAR
